BEGIN:VCALENDAR
VERSION:2.0
PRODID:-//EGI - ECPv6.15.0.1//NONSGML v1.0//EN
CALSCALE:GREGORIAN
METHOD:PUBLISH
X-WR-CALNAME:EGI
X-ORIGINAL-URL:https://www.efficient-governance-initiative.ch
X-WR-CALDESC:Events for EGI
REFRESH-INTERVAL;VALUE=DURATION:PT1H
X-Robots-Tag:noindex
X-PUBLISHED-TTL:PT1H
BEGIN:VTIMEZONE
TZID:UTC
BEGIN:STANDARD
TZOFFSETFROM:+0000
TZOFFSETTO:+0000
TZNAME:UTC
DTSTART:20250101T000000
END:STANDARD
END:VTIMEZONE
BEGIN:VEVENT
DTSTART;TZID=UTC:20251207T190000
DTEND;TZID=UTC:20251207T210000
DTSTAMP:20260422T225601
CREATED:20251206T203207Z
LAST-MODIFIED:20251206T203207Z
UID:276-1765134000-1765141200@www.efficient-governance-initiative.ch
SUMMARY:Fondue Evening
DESCRIPTION:To wrap up this semester’s work\, we organize a cozy fondue evening for our active members.
URL:https://www.efficient-governance-initiative.ch/event/fondue-evening/
END:VEVENT
BEGIN:VEVENT
DTSTART;TZID=UTC:20251126T163000
DTEND;TZID=UTC:20251126T180000
DTSTAMP:20260422T225601
CREATED:20251020T072137Z
LAST-MODIFIED:20251123T111348Z
UID:228-1764174600-1764180000@www.efficient-governance-initiative.ch
SUMMARY:Europe Pays? – The cost of U.S.-Tariffs
DESCRIPTION:Efficient Governance Initiwtive and AV Turicia present: \nIs America’s Trade Policy Reshaping the Global Economy?\nRecently\, the United States under president Donald Trump has taken an increasingly protectionist stance — imposing tariffs and redefining global trade relations. But what do these shifts mean for Europe\, Switzerland\, and the international economic order? \nJoin the Efficient Governance Initiative (EGI) for a thought-provoking evening that explores the economic\, political\, and diplomatic costs of the U.S. tariff strategy. Together with leading voices from diplomacy\, academia\, and industry\, we’ll unpack the far-reaching effects of American trade policy on competitiveness\, cooperation\, and global stability. \nOur distinguished speakers include Dr. Martin Dahinden (former Swiss Ambassador to the U.S.)\, Prof.  Ralph Ossa (UBS Foundation Professor of Economics\, University of Zurich; former WTO Chief Economist) and Luc Schnurrenberger\, Deputy Head of the Foreign Economic Affairs Division at Economiesuisse. \nThe discussion will be moderated by members of the EGI Board and invites active participation from the audience. \nWhy Attend?\n\nGain first-hand insights from top experts in trade and diplomacy.\nUnderstand how U.S. tariffs influence European industries and policymaking.\nDiscover what strategies Europe and Switzerland can adopt to remain resilient in a shifting global landscape.\nConnect with peers\, professors\, and professionals over an aperitif afterward.\n\nJoin us for an evening of ideas\, debate\, and exchange — and help shape the conversation on the future of fair and sustainable global trade. \nSign up for free here: https://forms.gle/ATbuwTHixuzHU9KN6 \nDate: Wednesday\, 26 November 2025Time: 16:30–18:00 (followed by an Apero)Location: University of Zurich\, Rämistrasse 71\, Room KOL-F-104Language: English
URL:https://www.efficient-governance-initiative.ch/event/guest-lecture-about-tariffs/
LOCATION:University of Zurich\, Room KOL-F-104\, Universität Zürich\, Zurich\, 8006
END:VEVENT
BEGIN:VEVENT
DTSTART;TZID=UTC:20251006T163000
DTEND;TZID=UTC:20251006T180000
DTSTAMP:20260422T225601
CREATED:20250828T145641Z
LAST-MODIFIED:20250923T153215Z
UID:52-1759768200-1759773600@www.efficient-governance-initiative.ch
SUMMARY:China – An Example to Follow? Strengths and Strains of Efficient Governance
DESCRIPTION:Place: University of Zurich\, Main Building\, Room KOL-F104. 4:30pm-6pm \nWith the panel discussion “China – An Example to Follow? Strengths and Strains of Efficient Governance”\, the aim is to provide a nuanced perspective on the Chinese understanding of statehood and administrative steering. While many European countries complain about growing bureaucracy\, lengthy decision-making processes\, and a certain inertia in reform\, the Chinese model presents itself outwardly as highly efficient: decisions appear to be made quickly and implemented consistently\, and state steering capacity becomes particularly evident in times of crisis. \nThe goal of the event is to take a deeper\, more objective look at China’s governance structures and their sources—beyond Western or Chinese narratives and beyond superficial reporting. Although China plays a central role as a global actor and the largest region of Asia\, the subject remains terra incognita for many students. At a time when the West increasingly laments paralyzing bureaucracy\, we ask ourselves: could China’s approach be a model of efficient governance? Together with experts\, we want to discuss historical developments\, current strategies\, and possible lessons for our own structures—critically\, openly\, and in a well-founded way. We seek to explore the topic from different perspectives—politics\, economics\, society\, and academia—in order to enable a well-grounded and balanced discussion. \nSpeakers: \n\nProf. Dr. Ralph Weber; associate professor at the Institute for European Global Studies (University of Basel)\nProf. Dr. Jean Christopher Mittelstädt\, associate professor of sinology specializing in modern China (University of Zurich)\nBerdardino Regazonni\, former Swiss ambassador to China\nNico Luchsinger\, director Asia Society Switzerland\n\n  \nSign up for free here: https://docs.google.com/forms/d/e/1FAIpQLScK8oM0JoD5xbsSv_VcWYtsra7PdqafDVWoP2qr8BsLWC4PMA/viewform?usp=dialog
URL:https://www.efficient-governance-initiative.ch/event/china-switzerland/
LOCATION:University of Zurich\, Room KOL-F-104\, Universität Zürich\, Zurich\, 8006
END:VEVENT
END:VCALENDAR