BEGIN:VCALENDAR
VERSION:2.0
PRODID:-//EGI - ECPv6.15.0.1//NONSGML v1.0//EN
CALSCALE:GREGORIAN
METHOD:PUBLISH
X-ORIGINAL-URL:https://www.efficient-governance-initiative.ch
X-WR-CALDESC:Events for EGI
REFRESH-INTERVAL;VALUE=DURATION:PT1H
X-Robots-Tag:noindex
X-PUBLISHED-TTL:PT1H
BEGIN:VTIMEZONE
TZID:UTC
BEGIN:STANDARD
TZOFFSETFROM:+0000
TZOFFSETTO:+0000
TZNAME:UTC
DTSTART:20260101T000000
END:STANDARD
END:VTIMEZONE
BEGIN:VEVENT
DTSTART;TZID=UTC:20260324T180000
DTEND;TZID=UTC:20260324T193000
DTSTAMP:20260422T072231
CREATED:20260207T112741Z
LAST-MODIFIED:20260320T114115Z
UID:290-1774375200-1774380600@www.efficient-governance-initiative.ch
SUMMARY:Panel Discussion on the Increase of Tuition Fees
DESCRIPTION:💵 Are you concerned about a potential increase in tuition fees currently being discussed at all political levels – from the cantons to the federal government? \nWhat would such an increase mean for students? What are the reasons behind it? And are there viable alternatives? \nTo address these questions and present the student perspective\, we are organizing a panel discussion: \n“Higher Tuition Fees: Fair Contribution or Social Barrier?”\n📅 Tuesday\, 24 March 2026\n🕕 18:00–19:30\n📍 UZH KOL\, Room KOH-B-10\nRämistrasse 71\, Zurich \n👨‍🎓🧑‍🎓With leading experts from academia\, economics\, and politics: \n* Prof. Dr. Michael Schaepman\, Rector of the University of Zurich (UZH)\n* Min Li Marti\, Member of the National Council (ZH\, SP)\, Vice-Chair of the Parliamentary Committee for Science\, Education and Culture\n* Kathryn Wydler\, Member of the Cantonal Council of Zurich (Die Mitte)\, Member of the Cantonal Committee for Education and Culture (ZH)\n* Prof. Dr. Rudolf Minsch\, Head of Economic Policy & Foreign Economic Affairs\, Chief Economist and Deputy Member of the Executive Board of Economiesuisse\, responsible for education policy\n* Rochus Burtscher\, Member of the Cantonal Council of Zurich (SVP)\, Member of the Cantonal Committee for Education and Culture (ZH) \nModerated by Dominik Feusi\, Journalist and Editor-in-Chief at Nebelspalter \nDon’t miss this opportunity – join the discussion and make your voice heard! \n✅Registration link: register here \nYour EGI Team
URL:https://www.efficient-governance-initiative.ch/event/panel-discussion-on-the-increase-of-tuition-fees/
LOCATION:UZH KOL\, Room KOH-B-10\, Rämistrasse 71\, Zurich\, Switzerland
END:VEVENT
END:VCALENDAR